BEGIN:VCALENDAR
VERSION:2.0
CALSCALE:GREGORIAN
METHOD:PUBLISH
PRODID://OPBA//472332
BEGIN:VEVENT
DTSTAMP:20260421T044050
VTIMEZONE:America/New_York
DTSTART:20261101T170000Z
DTEND:20261130T200000Z
UID:472332
SUMMARY:Principles - Introduction to Public Procurement (Virtual - PPLL)
LOCATION:Zoom - links will be distributed prior to event
DESCRIPTION:Principles - Introduction to Public Procurement (Virtual - PPLL)\n\n11/01/26 12:00 PM EST\n - 11/30/26 03:00 PM EST\Description:\nCourse Access: November 1 -  November 30, 2026\nMandatory Live Zoom Session: Monday, November 30 | 12:00pm - 3:00pm ET\nRegistration Deadline: October 26, 2026\n\nDelivery Format: Self-paced online + mandatory live Zoom session\nCOURSE DESCRIPTION\n\nThis course is delivered through OPBA’s Public Procurement Learning Lab (PPLL) using the Brightspace learning platform.\n\nIf this is your first course with PPLL, you’ll receive an email with login instructions. If you’ve already taken a course through PPLL, you’ll use your existing login credentials to access the platform.\n\nThis is a blended learning experience, combining self-directed online learning with a live instructor-led session. You’ll work through readings, quizzes, and assignments at your own pace throughout the month. The deadlines you will need to meet will fall on Novemberâ€‹ 7th, November 14th, November 21st and November 28th.\n\nA mandatory live Zoom session will take place on Monday, November 30 at 12:00pm - 3:00pm ET. Attendance is required to complete the course and earn your certificate.\n\nZoom link will be sent the week before the session.\n\nThis course is the pre-requisite for the Principles of Effective Public Procurement certificate program, giving an introduction to policy and procedures, authority and agency, the public purchasing cycle and other aspects of the function of purchasing. Candidates will be given an overview of legal considerations purchasing staff need to know when developing and handling bid documents, deciding the best procurement option (tender and RFP processes), as well as discuss centralized versus decentralized procurement systems.\n\nInstructor: Slavi Nalbantov, CSCMP\n\nLEARNING OBJECTIVES: \n\nBy the end of this course participants will be able to:\n• Describe the roles and responsibilities of public procurement, and the differences from the private sector\n• Explain the importance of developing clear purchasing policies and procedures\n• Discuss the advantages and disadvantages of a centralized and decentralized purchasing organization structure\n• Outline the seven ’R’s of public purchasing and the steps associated with the public purchasing cycle\n• Describe the legalities associated with public purchasing\n\n\nCOURSE LEARNING MATERIALS\n\nYou do not need any course materials in advance, everything required to support your learning with this course will be accessed in the learning platform.\n\nREFUNDS & PAYMENTS\n\nPlease refer to our refund + payment policy for information regarding cancellations and/or refunds.\n \n\nCERTIFICATE PROGRAM\n\nAttendance Credit: 7 contact hours\n\nProgram Enrollment: If you plan to apply this course toward the Principles of Effective Public Procurement certificate program, you must enroll in the program within nine (9) months of completing this course.\n\nREGISTRATION\n\nSpace is limited: Register early to avoid disappointment. There will be a $25 late fee applied to join this course after the registration deadline. Please email members@opba.ca to request a late registration. \n\nRegistration Fees:\n\n\n	\n		\n			Title\n			Fee\n			Valid Dates\n			Member Status\n			Points\n			CEUs\n			Hours\n		\n		\n			Virtual Learning Member Rate\n			$288.10\n			Until October 26, 2026\n			Members Only\n			0.0000\n			0.0000\n			7\n		\n		\n			Virtual Learning - Non Member\n			$352.10\n			Until October 26, 2026\n			All Registrants\n			0.0000\n			0.0000\n			7\n		\n	\n\n\n\nPlease refer to our refund + payment policy for information regarding cancellations and/or refunds.\n\nRegistration closes October 26, 2026\ntable\n	{mso-displayed-decimal-separator:".";\n	mso-displayed-thousand-separator:",";}\ntr\n	{mso-height-source:auto;}\ncol\n	{mso-width-source:auto;}\ntd\n	{padding-top:1px;\n	padding-right:1px;\n	padding-left:1px;\n	mso-ignore:padding;\n	color:black;\n	font-size:11.0pt;\n	font-weight:400;\n	font-style:normal;\n	text-decoration:none;\n	font-family:"Aptos Narrow", sans-serif;\n	mso-font-charset:0;\n	text-align:general;\n	vertical-align:bottom;\n	border:none;\n	white-space:nowrap;\n	mso-rotate:0;}\n.xl119\n	{color:black;\n	font-weight:700;\n	background:#82E391;\n	mso-pattern:black none;}\n\n\Location:\nZoom - links will be distributed prior to event\n\n,
X-ALT-DESC;FMTTYPE=text/html:Principles - Introduction to Public Procurement (Virtual - PPLL)<br /><br />11/01/26 12:00 PM EST - 11/30/26 03:00 PM EST<br />Description:<br /><strong>Course Access:</strong>&nbsp;November 1 -&nbsp; November 30, 2026<br />
<strong>Mandatory Live Zoom Session:&nbsp;Monday, November 30 | 12:00pm - 3:00pm&nbsp;ET</strong><br />
<strong>Registration Deadline:</strong>&nbsp;October 26, 2026<br />
<br />
<strong>Delivery Format: Self-paced online + mandatory live Zoom session</strong>
<p><strong>COURSE DESCRIPTION</strong><br />
<br />
This course is delivered through OPBA&rsquo;s Public Procurement Learning Lab (PPLL) using the Brightspace learning platform.<br />
<br />
If this is your first course with PPLL, you&rsquo;ll receive an email with login instructions. If you&rsquo;ve already taken a course through PPLL, you&rsquo;ll use your existing login credentials to access the platform.<br />
<br />
This is a blended learning experience, combining self-directed online learning with a live instructor-led session. You&rsquo;ll work through readings, quizzes, and assignments at your own pace throughout the month. <strong>The deadlines you will need to meet will fall on Novemberâ€‹&nbsp;7th, November 14th, November 21st and November</strong><strong> 28th.</strong><br />
<br />
A <strong>mandatory</strong>&nbsp;live Zoom session will take place on <strong>Monday, November 30 at 12:00pm - 3:00pm&nbsp;ET</strong>. Attendance is required to complete the course and earn your certificate.<br />
<br />
Zoom link will be sent the week before the session.<br />
<br />
This course is the pre-requisite for the Principles of Effective Public Procurement certificate program, giving an introduction to policy and procedures, authority and agency, the public purchasing cycle and other aspects of the function of purchasing. Candidates will be given an overview of legal considerations purchasing staff need to know when developing and handling bid documents, deciding the best procurement option (tender and RFP processes), as well as discuss centralized versus decentralized procurement systems.</p>

<p><strong>Instructor: </strong>Slavi Nalbantov, CSCMP<br />
<br />
<strong>LEARNING OBJECTIVES:&nbsp;</strong><br />
<br />
By the end of this course participants will be able to:<br />
&bull; Describe the roles and responsibilities of public procurement, and the differences from the private sector<br />
&bull; Explain the importance of developing clear purchasing policies and procedures<br />
&bull; Discuss the advantages and disadvantages of a centralized and decentralized purchasing organization structure<br />
&bull; Outline the seven &rsquo;R&rsquo;s of public purchasing and the steps associated with the public purchasing cycle<br />
&bull; Describe the legalities associated with public purchasing</p>

<p><br />
<strong>COURSE LEARNING MATERIALS</strong></p>

<p>You do not need any course materials in advance, everything required to support your learning with this course will be accessed in the learning platform.<br />
<br />
<strong>REFUNDS &amp; PAYMENTS</strong><br />
<br />
Please refer to&nbsp;<a href="https://www.opba.ca/docs/OPBA_Refund-Payment_Policy.pdf">our refund + payment policy</a>&nbsp;for information regarding cancellations and/or refunds.<br />
&nbsp;</p>

<p><strong>CERTIFICATE PROGRAM</strong></p>

<p>Attendance Credit: 7 contact hours</p>

<p>Program Enrollment: If you plan to apply this course&nbsp;toward the&nbsp;<a href="https://members.opba.ca/members/form.php?orgcode=OPBA&amp;fid=5915381" target="_blank">Principles of Effective Public Procurement certificate program</a>, you must enroll in the program within nine (9) months of completing this course.</p>

<p><strong>REGISTRATION</strong></p>

<p>Space is limited: Register early to avoid disappointment.&nbsp;There will be a $25 late fee applied to join this course after the registration deadline. Please email members@opba.ca to request a late registration.<strong>&nbsp;</strong></p>

<p><strong>Registration Fees:</strong></p>

<table>
	<tbody>
		<tr>
			<th>Title</th>
			<th>Fee</th>
			<th width="175">Valid Dates</th>
			<th width="150">Member Status</th>
			<th width="50">Points</th>
			<th width="50">CEUs</th>
			<th width="50">Hours</th>
		</tr>
		<tr>
			<td>Virtual Learning Member Rate</td>
			<td>$288.10</td>
			<td width="175">Until October 26, 2026</td>
			<td width="150">Members Only</td>
			<td width="50">0.0000</td>
			<td width="50">0.0000</td>
			<td width="50">7</td>
		</tr>
		<tr>
			<td>Virtual Learning - Non Member</td>
			<td>$352.10</td>
			<td width="175">Until October 26, 2026</td>
			<td width="150">All Registrants</td>
			<td width="50">0.0000</td>
			<td width="50">0.0000</td>
			<td width="50">7</td>
		</tr>
	</tbody>
</table>

<p><br />
Please refer to&nbsp;<a href="https://www.opba.ca/docs/OPBA_Refund-Payment_Policy.pdf">our refund + payment policy</a>&nbsp;for information regarding cancellations and/or refunds.</p>

<p><strong>Registration closes October 26, 2026</strong></p>
<style type="text/css">table
	{mso-displayed-decimal-separator:"\.";
	mso-displayed-thousand-separator:"\,";}
tr
	{mso-height-source:auto;}
col
	{mso-width-source:auto;}
td
	{padding-top:1px;
	padding-right:1px;
	padding-left:1px;
	mso-ignore:padding;
	color:black;
	font-size:11.0pt;
	font-weight:400;
	font-style:normal;
	text-decoration:none;
	font-family:"Aptos Narrow", sans-serif;
	mso-font-charset:0;
	text-align:general;
	vertical-align:bottom;
	border:none;
	white-space:nowrap;
	mso-rotate:0;}
.xl119
	{color:black;
	font-weight:700;
	background:#82E391;
	mso-pattern:black none;}
</style>
<br />Location:<br />Zoom - links will be distributed prior to event<br /><br />,  
PRIORITY:3
TRANSP:TRANSPARENT
BEGIN:VALARM
TRIGGER:-PT5M
ACTION:DISPLAY
DESCRIPTION:Reminder
END:VALARM
END:VEVENT
END:VCALENDAR
