BEGIN:VCALENDAR
VERSION:2.0
CALSCALE:GREGORIAN
METHOD:PUBLISH
PRODID://OPBA//469831
BEGIN:VEVENT
DTSTAMP:20260421T043519
VTIMEZONE:America/New_York
DTSTART:20260301T170000Z
DTEND:20260331T193000Z
UID:469831
SUMMARY:Principles - Introduction to Procurement for Construction (Virtual - PPLL)
LOCATION:Public Procurement Learning Lab via Brightspace
DESCRIPTION:Principles - Introduction to Procurement for Construction (Virtual - PPLL)\n\n03/01/26 12:00 PM EST\n - 03/31/26 03:30 PM EST\Description:\nCourse Access: March 1 – 31, 2026\nMandatory Live Zoom Session: Monday, March 30 | 12:00pm - 3:30pm ET\nRegistration Deadline: February 20, 2026\n\nDelivery Format: Self-paced online + mandatory live Zoom session\nCOURSE DESCRIPTION\n\nThis course is delivered through OPBA’s Public Procurement Learning Lab (PPLL) using the Brightspace learning platform.\n\nIf this is your first course with PPLL, you’ll receive an email with login instructions. If you’ve already taken a course through PPLL, you’ll use your existing login credentials to access the platform.\n\nThis is a blended learning experience, combining self-directed online learning with a live instructor-led session. You’ll work through readings, quizzes, and assignments at your own pace throughout the month. The deadlines you will need to meet will fall on March 7th, March 14th, March 21st and March 28th.\n\nA mandatory live Zoom session will take place on Monday, March 30 at 12:00pm - 3:30pm ETâ€‹. Attendance is required to complete the course and earn your certificate.\n\nZoom link will be provided within the course.\n\nThis course examines the various issues with managing risk when purchasing goods and services in the public sector. Candidates are given an overview of common risk issues, including those of ownership and copyright, the right to privacy, competitive bidding irregularities, occupational health and safety, environmental responsibilities and accountability in terms of personal and corporate liability.\n\nInstructor: Michelle Rasiulis, CSCMP, CPPB, NIGP-CPP\ntable\n	{mso-displayed-decimal-separator:".";\n	mso-displayed-thousand-separator:",";}\ntr\n	{mso-height-source:auto;}\ncol\n	{mso-width-source:auto;}\ntd\n	{padding-top:1px;\n	padding-right:1px;\n	padding-left:1px;\n	mso-ignore:padding;\n	color:black;\n	font-size:11.0pt;\n	font-weight:400;\n	font-style:normal;\n	text-decoration:none;\n	font-family:"Aptos Narrow", sans-serif;\n	mso-font-charset:0;\n	text-align:general;\n	vertical-align:bottom;\n	border:none;\n	white-space:nowrap;\n	mso-rotate:0;}\n.font23\n	{color:black;\n	font-size:10.0pt;\n	font-weight:700;\n	font-style:normal;\n	text-decoration:none;\n	font-family:"Arial Narrow";\n	mso-generic-font-family:auto;\n	mso-font-charset:0;}\n.xl100\n	{color:black;\n	font-size:12.0pt;\n	font-weight:700;\n	font-family:"Arial Narrow";\n	mso-generic-font-family:auto;\n	mso-font-charset:0;\n	text-align:center;\n	border-top:.5pt solid windowtext;\n	border-right:none;\n	border-bottom:.5pt solid windowtext;\n	border-left:none;\n	background:#B5E6A2;\n	mso-pattern:black none;\n	white-space:normal;}\n\n\n\n\nLEARNING OBJECTIVES: \n\nBy the end of this course participants will be able to:\n• Define risk management\n• Describe eight major risk management issues of importance for public procurement professionals\n• Outline three basic risk management techniques: avoiding, managing and transferring risk\n• Explain the types of insurance and bonds a public agency will require or may request from a vendor\n• Describe the six components to corporate risk management\n• Better understand all of the roles involved in managing risk in your organization\n\nCOURSE LEARNING MATERIALS\n\nYou do not need any course materials in advance, everything required to support your learning with this course will be accessed in the learning platform.\n\nREFUNDS & PAYMENTS\n\nPlease refer to our refund + payment policy for information regarding cancellations and/or refunds. Course registration fees are non-transferable to other courses.\n\nCERTIFICATE PROGRAM\n\nAttendance Credit: 9 contact hours\n\nProgram Enrollment: If you plan to apply this course toward the Principles of Effective Public Procurement certificate program, you must enroll in the program within nine (9) months of completing this course.\n\nREGISTRATION\n\nSpace is limited: Register early to avoid disappointment. There will be a $25 late fee applied to join this course after the registration deadline. Please email members@opba.ca to request a late registration. \n\nRegistration Fees:\n\n\n	\n		\n			Title\n			Fee\n			Valid Dates\n			Member Status\n			Points\n			CEUs\n			Hours\n		\n		\n			Virtual Learning Member Rate\n			$288.10\n			Until February 20, 2026\n			Members Only\n			0.0000\n			0.0000\n			9\n		\n		\n			Virtual Learning - Non Member\n			$352.10\n			Until February 20, 2026\n			All Registrants\n			0.0000\n			0.0000\n			9\n		\n	\n\n\n\nPlease refer to our refund + payment policy for information regarding cancellations and/or refunds.\n\n\nRegistration closes February 20, 2026.\ntable\n	{mso-displayed-decimal-separator:".";\n	mso-displayed-thousand-separator:",";}\ntr\n	{mso-height-source:auto;}\ncol\n	{mso-width-source:auto;}\ntd\n	{padding-top:1px;\n	padding-right:1px;\n	padding-left:1px;\n	mso-ignore:padding;\n	color:black;\n	font-size:11.0pt;\n	font-weight:400;\n	font-style:normal;\n	text-decoration:none;\n	font-family:"Aptos Narrow", sans-serif;\n	mso-font-charset:0;\n	text-align:general;\n	vertical-align:bottom;\n	border:none;\n	white-space:nowrap;\n	mso-rotate:0;}\n.xl35\n	{color:#0070C0;\n	font-size:12.0pt;\n	font-weight:700;\n	font-family:"Arial Narrow", sans-serif;\n	mso-font-charset:0;\n	text-align:center;\n	border-top:.5pt solid windowtext;\n	border-right:.5pt solid windowtext;\n	border-bottom:.5pt solid windowtext;\n	border-left:none;\n	white-space:normal;}\n\n\Location:\nPublic Procurement Learning Lab via Brightspace\n\n,
X-ALT-DESC;FMTTYPE=text/html:Principles - Introduction to Procurement for Construction (Virtual - PPLL)<br /><br />03/01/26 12:00 PM EST - 03/31/26 03:30 PM EST<br />Description:<br /><strong>Course Access:</strong>&nbsp;March 1 &ndash; 31, 2026<br />
<strong>Mandatory Live Zoom Session:</strong>&nbsp;<strong>Monday, March 30 |&nbsp;12:00pm - 3:30pm ET</strong><br />
<strong>Registration Deadline:</strong>&nbsp;February 20, 2026<br />
<br />
<strong>Delivery Format: Self-paced online + mandatory live Zoom session</strong>
<p><strong>COURSE DESCRIPTION</strong><br />
<br />
This course is delivered through OPBA&rsquo;s Public Procurement Learning Lab (PPLL) using the Brightspace learning platform.<br />
<br />
If this is your first course with PPLL, you&rsquo;ll receive an email with login instructions. If you&rsquo;ve already taken a course through PPLL, you&rsquo;ll use your existing login credentials to access the platform.<br />
<br />
This is a blended learning experience, combining self-directed online learning with a live instructor-led session. You&rsquo;ll work through readings, quizzes, and assignments at your own pace throughout the month.&nbsp;<strong>The deadlines you will need to meet will fall on March 7th, March 14th, March 21st and March 28th.</strong><br />
<br />
A <strong>mandatory</strong>&nbsp;live Zoom session will take place on <strong>Monday, March 30 at&nbsp;12:00pm - 3:30pm ETâ€‹</strong>. Attendance is required to complete the course and earn your certificate.<br />
<br />
Zoom link will be provided within the course.<br />
<br />
This course examines the various issues with managing risk when purchasing goods and services in the public sector. Candidates are given an overview of common risk issues, including those of ownership and copyright, the right to privacy, competitive bidding irregularities, occupational health and safety, environmental responsibilities and accountability in terms of personal and corporate liability.<br />
<br />
<strong>Instructor:&nbsp;</strong>Michelle Rasiulis, CSCMP, CPPB, NIGP-CPP<meta http-equiv="Content-Type" content="text/html; charset=utf-8" /><meta name="ProgId" content="Excel.Sheet" /><meta name="Generator" content="Microsoft Excel 15" />
<style type="text/css">table
	{mso-displayed-decimal-separator:"\.";
	mso-displayed-thousand-separator:"\,";}
tr
	{mso-height-source:auto;}
col
	{mso-width-source:auto;}
td
	{padding-top:1px;
	padding-right:1px;
	padding-left:1px;
	mso-ignore:padding;
	color:black;
	font-size:11.0pt;
	font-weight:400;
	font-style:normal;
	text-decoration:none;
	font-family:"Aptos Narrow", sans-serif;
	mso-font-charset:0;
	text-align:general;
	vertical-align:bottom;
	border:none;
	white-space:nowrap;
	mso-rotate:0;}
.font23
	{color:black;
	font-size:10.0pt;
	font-weight:700;
	font-style:normal;
	text-decoration:none;
	font-family:"Arial Narrow";
	mso-generic-font-family:auto;
	mso-font-charset:0;}
.xl100
	{color:black;
	font-size:12.0pt;
	font-weight:700;
	font-family:"Arial Narrow";
	mso-generic-font-family:auto;
	mso-font-charset:0;
	text-align:center;
	border-top:.5pt solid windowtext;
	border-right:none;
	border-bottom:.5pt solid windowtext;
	border-left:none;
	background:#B5E6A2;
	mso-pattern:black none;
	white-space:normal;}
</style>
</p>

<p><br />
<strong>LEARNING OBJECTIVES:&nbsp;</strong><br />
<br />
By the end of this course participants will be able to:<br />
&bull; Define risk management<br />
&bull; Describe eight major risk management issues of importance for public procurement professionals<br />
&bull; Outline three basic risk management techniques: avoiding, managing and&nbsp;transferring risk<br />
&bull; Explain the types of insurance and bonds a public agency will require or may request&nbsp;from a vendor<br />
&bull; Describe the six components to corporate risk management<br />
&bull; Better understand all of the roles involved in managing risk in your organization<br />
<br />
<strong>COURSE LEARNING MATERIALS</strong></p>

<p>You do not need any course materials in advance, everything required to support your learning with this course will be accessed in the learning platform.<br />
<br />
<strong>REFUNDS &amp; PAYMENTS</strong><br />
<br />
Please refer to&nbsp;<a href="https://www.opba.ca/docs/OPBA_Refund-Payment_Policy.pdf">our refund + payment policy</a>&nbsp;for information regarding cancellations and/or refunds. <strong>Course registration fees are non-transferable to other courses.</strong><br />
<br />
<strong>CERTIFICATE PROGRAM</strong></p>

<p>Attendance Credit: 9 contact hours</p>

<p>Program Enrollment: If you plan to apply this course&nbsp;toward the&nbsp;<a href="https://members.opba.ca/members/form.php?orgcode=OPBA&amp;fid=5915381" target="_blank">Principles of Effective Public Procurement certificate program</a>, you must enroll in the program within nine (9) months of completing this course.</p>

<p><strong>REGISTRATION</strong></p>

<p>Space is limited: Register early to avoid disappointment.&nbsp;There will be a $25 late fee applied to join this course after the registration deadline. Please email members@opba.ca to request a late registration.<strong>&nbsp;</strong></p>

<p><strong>Registration Fees:</strong></p>

<table>
	<tbody>
		<tr>
			<th>Title</th>
			<th>Fee</th>
			<th width="175">Valid Dates</th>
			<th width="150">Member Status</th>
			<th width="50">Points</th>
			<th width="50">CEUs</th>
			<th width="50">Hours</th>
		</tr>
		<tr>
			<td>Virtual Learning Member Rate</td>
			<td>$288.10</td>
			<td width="175">Until February 20, 2026</td>
			<td width="150">Members Only</td>
			<td width="50">0.0000</td>
			<td width="50">0.0000</td>
			<td width="50">9</td>
		</tr>
		<tr>
			<td>Virtual Learning - Non Member</td>
			<td>$352.10</td>
			<td width="175">Until February 20, 2026</td>
			<td width="150">All Registrants</td>
			<td width="50">0.0000</td>
			<td width="50">0.0000</td>
			<td width="50">9</td>
		</tr>
	</tbody>
</table>

<p><br />
Please refer to&nbsp;<a href="https://www.opba.ca/docs/OPBA_Refund-Payment_Policy.pdf">our refund + payment policy</a>&nbsp;for information regarding cancellations and/or refunds.</p>

<p><br />
<strong>Registration closes February 20, 2026.</strong></p>
<style type="text/css">table
	{mso-displayed-decimal-separator:".";
	mso-displayed-thousand-separator:",";}
tr
	{mso-height-source:auto;}
col
	{mso-width-source:auto;}
td
	{padding-top:1px;
	padding-right:1px;
	padding-left:1px;
	mso-ignore:padding;
	color:black;
	font-size:11.0pt;
	font-weight:400;
	font-style:normal;
	text-decoration:none;
	font-family:"Aptos Narrow", sans-serif;
	mso-font-charset:0;
	text-align:general;
	vertical-align:bottom;
	border:none;
	white-space:nowrap;
	mso-rotate:0;}
.xl35
	{color:#0070C0;
	font-size:12.0pt;
	font-weight:700;
	font-family:"Arial Narrow", sans-serif;
	mso-font-charset:0;
	text-align:center;
	border-top:.5pt solid windowtext;
	border-right:.5pt solid windowtext;
	border-bottom:.5pt solid windowtext;
	border-left:none;
	white-space:normal;}
</style>
<br />Location:<br />Public Procurement Learning Lab via Brightspace<br /><br />,  
PRIORITY:3
TRANSP:TRANSPARENT
BEGIN:VALARM
TRIGGER:-PT5M
ACTION:DISPLAY
DESCRIPTION:Reminder
END:VALARM
END:VEVENT
END:VCALENDAR
