BEGIN:VCALENDAR
VERSION:2.0
CALSCALE:GREGORIAN
METHOD:PUBLISH
PRODID://OPBA//452942
BEGIN:VEVENT
DTSTAMP:20260420T041323
VTIMEZONE:America/New_York
DTSTART:20251119T180000Z
DTEND:20251119T200000Z
UID:452942
SUMMARY:Before you Build â€“ Risks to Consider when Planning and Procuring a Complex Construction Project
LOCATION:, ON
DESCRIPTION:Before you Build â€“ Risks to Consider when Planning and Procuring a Complex Construction Project\n\n11/19/25 01:00 PM EST\n - 11/19/25 03:00 PM EST\Description:\nNovember 19, 2025\n1 PM - 3 PM ET\nVirtual Event \n\nRegistration closes Monday, November 17\n\nJoin us for a hands-on, practical session designed to help procurement professionals navigate the complex world of insurance and risk management. Our risk specialists will support a procurement professional as she navigates the procurement process for a multi-faceted construction project. \n\nKey topics include: \n\n\n	Procurement and risk management frameworks and strategies \n	Types of insurance and when to apply them (featuring a high-level insurance matrix)\n	Certificate of Insurance (COI) basics and best practices \n	A deeper look at COIs: what to look for, what often goes wrong, and how to protect your organization \n	Practical tips and lessons learned from the field \n\n\nThis session will be interactive and focused on real-world application. Come with your questions and leave with tools you can use.\n\nPresenters:\nShannon Devane: Shannon has a Bachelor of Business Administration from Wilfrid Laurier University and has obtained her Fellow Chartered Insurance Professional (FCIP), and the Risk and Insurance Management Society – Certified Risk Management Professional (RIMS-CRMP). Shannon spent fourteen (14) years working with municipalities in the Province of Ontario with a reciprocal and as a broker. Her work in those roles was primarily focused on Risk Management including contract reviews and municipal operation risk assessment. Prior to joining AMO's Business Services arm LAS as the Program Manager – Municipal Risk Management in June of 2022, she was the Manager of Risk for the City of Vaughan.\n\nSamoya Lloyd-Smith is currently the Manager of Purchasing and Risk Management at the Township of Centre Wellington. She has almost 20 years’ experience working in Purchasing and has recently ventured into risk management.  Prior to her current role, she spent 13 years working in a national non-profit healthcare organization managing the Procurement and Partner Services function. Her past roles also included working as a buyer in the automotive sector and as a Purchasing Analyst in a large municipality. She holds a master’s degree in health administration, a bachelor’s degree in biology and psychology and has held the NISCL – Certified Supply Chain Leader designation since 2011. When not busy with her family, she can be found traveling, exploring nature or listening to audiobooks or podcasts. She enjoys continuous learning and welcomes the opportunity to learn from whomever she crosses path with. \n\nTracy Eso, BFA, CIP, CRM, ACI: Tracy Eso is the Risk Assessment and Solutions Specialist in the Risk Management Department at Intact Public Entities with expertise in insurance claims, risk management, captive insurance, and climate change.  She has over 20 years’ experience in the insurance industry.   \n\nTracy is an instructor for the Insurance Institute of Canada and has spoken at various industry conferences and writes articles on topics ranging from climate change to liability claims.  Her focus at Intact Public Entities is to research risks that municipalities across Canada are facing, develop ways to mitigate those hazards and educate municipal clients in best-practice solutions to create resilience in the face of an ever-changing risk landscape.  \n\n\nRegistration Fees:\n\n\n	\n		\n			\n			Title\n			\n			\n			Fee\n			\n			\n			Member Status\n			\n			\n			Points\n			\n			\n			CEUs\n			\n			\n			Hours\n			\n		\n		\n			\n			Members\n			\n			\n			$0.00 \n			\n			\n			Members Only\n			\n			\n			   0.0000\n			\n			\n			  0.0000\n			\n			\n			    2.00\n			\n		\n		\n			\n			Non Members               \n			\n			\n			$35.00 + HST           \n			\n			\n			All Registrants              \n			\n			\n			   0.0000         \n			\n			\n			  0.0000         \n			\n			\n			    2.00             \n			\n		\n	\n\n\n\nPlease refer to our refund + payment policy for information regarding cancellations and/or refunds.\n
X-ALT-DESC;FMTTYPE=text/html:Before you Build â€“ Risks to Consider when Planning and Procuring a Complex Construction Project<br /><br />11/19/25 01:00 PM EST - 11/19/25 03:00 PM EST<br />Description:<br /><p paraeid="{d3731ffb-3fac-4172-a0ed-435774c6d7ba}{57}" paraid="263167959">November 19, 2025<br />
1 PM - 3 PM ET<br />
Virtual Event&nbsp;<br />
<br />
<strong>Registration closes Monday, November 17</strong><br />
<br />
Join us for a hands-on, practical session designed to help procurement professionals navigate the complex world of insurance and risk management. Our risk specialists will support a procurement professional as she navigates the procurement process for a multi-faceted construction project.&nbsp;</p>

<p paraeid="{d3731ffb-3fac-4172-a0ed-435774c6d7ba}{95}" paraid="77406025">Key topics include:&nbsp;</p>

<ul>
	<li paraeid="{d3731ffb-3fac-4172-a0ed-435774c6d7ba}{105}" paraid="1048438972">Procurement and risk management frameworks and strategies&nbsp;</li>
	<li paraeid="{d3731ffb-3fac-4172-a0ed-435774c6d7ba}{105}" paraid="1048438972">Types of insurance and when to apply them (featuring a high-level insurance matrix)</li>
	<li paraeid="{d3731ffb-3fac-4172-a0ed-435774c6d7ba}{105}" paraid="1048438972">Certificate of Insurance (COI) basics and best practices&nbsp;</li>
	<li paraeid="{d3731ffb-3fac-4172-a0ed-435774c6d7ba}{105}" paraid="1048438972">A deeper look at COIs: what to look for, what often goes wrong, and how to protect your organization&nbsp;</li>
	<li paraeid="{d3731ffb-3fac-4172-a0ed-435774c6d7ba}{105}" paraid="1048438972">Practical tips and lessons learned from the field&nbsp;</li>
</ul>

<p paraeid="{d3731ffb-3fac-4172-a0ed-435774c6d7ba}{155}" paraid="917587327">This session will be interactive and focused on real-world application. Come with your questions and leave with tools you can use.<br />
<br />
<strong>Presenters:</strong><br />
<strong>Shannon Devane</strong>: Shannon has a Bachelor of Business Administration from Wilfrid Laurier University and has obtained her Fellow Chartered Insurance Professional (FCIP), and the Risk and Insurance Management Society &ndash; Certified Risk Management Professional (RIMS-CRMP). Shannon spent fourteen (14) years working with municipalities in the Province of Ontario with a reciprocal and as a broker. Her work in those roles was primarily focused on Risk Management including contract reviews and municipal operation risk assessment. Prior to joining AMO's Business Services arm LAS as the Program Manager &ndash; Municipal Risk Management in June of 2022, she was the Manager of Risk for the City of Vaughan.</p>

<p paraeid="{6cf0f398-d5b6-4ed0-8d79-3b731ab21ab0}{7}" paraid="1864015783"><strong>Samoya Lloyd-Smith</strong>&nbsp;is currently the Manager of Purchasing and Risk Management at the Township of Centre Wellington. She has almost 20 years&rsquo; experience working in Purchasing and has recently ventured into risk management.&nbsp; Prior to her current role, she spent 13 years working in a national non-profit healthcare organization managing the Procurement and Partner Services function. Her past roles also included working as a buyer in the automotive sector and as a Purchasing Analyst in a large municipality. She holds a master&rsquo;s degree in health administration, a bachelor&rsquo;s degree in biology and psychology and has held the NISCL &ndash; Certified Supply Chain Leader designation since 2011. When not busy with her family, she can be found traveling, exploring nature or listening to audiobooks or podcasts. She enjoys continuous learning and welcomes the opportunity to learn from whomever she crosses path with.&nbsp;</p>

<p paraeid="{d3731ffb-3fac-4172-a0ed-435774c6d7ba}{155}" paraid="917587327"><strong>Tracy Eso, BFA, CIP, CRM, ACI:&nbsp;</strong>Tracy Eso is the Risk Assessment and Solutions Specialist in the Risk Management Department at Intact Public Entities with expertise in insurance claims, risk management, captive insurance, and climate change.&nbsp; She has over 20 years&rsquo; experience in the insurance industry.&nbsp;&nbsp;&nbsp;</p>

<p paraeid="{314b3e65-1f9f-46b4-a627-a3502f220e7e}{55}" paraid="265533086">Tracy is an instructor for the Insurance Institute of Canada and has spoken at various industry conferences and writes articles on topics ranging from climate change to liability claims.&nbsp; Her focus at Intact Public Entities is to research risks that municipalities across Canada are facing, develop ways to mitigate those hazards and educate municipal clients in best-practice solutions to create resilience in the face of an ever-changing risk landscape.&nbsp;&nbsp;</p>

<p paraeid="{d3731ffb-3fac-4172-a0ed-435774c6d7ba}{155}" paraid="917587327"><br />
<strong>Registration Fees:</strong></p>

<table border="1" summary="" title="" valign="top">
	<tbody>
		<tr>
			<td>
			<p>Title</p>
			</td>
			<td>
			<p>Fee</p>
			</td>
			<td>
			<p>Member Status</p>
			</td>
			<td>
			<p>Points</p>
			</td>
			<td>
			<p>CEUs</p>
			</td>
			<td>
			<p>Hours</p>
			</td>
		</tr>
		<tr>
			<td>
			<p>Members</p>
			</td>
			<td>
			<p>$0.00&nbsp;</p>
			</td>
			<td>
			<p>Members Only</p>
			</td>
			<td>
			<p>&nbsp; &nbsp;0.0000</p>
			</td>
			<td>
			<p>&nbsp; 0.0000</p>
			</td>
			<td>
			<p>&nbsp; &nbsp; 2.00</p>
			</td>
		</tr>
		<tr>
			<td>
			<p>Non Members&nbsp; &nbsp; &nbsp; &nbsp; &nbsp; &nbsp; &nbsp; &nbsp;</p>
			</td>
			<td>
			<p>$35.00 + HST&nbsp; &nbsp; &nbsp; &nbsp; &nbsp; &nbsp;</p>
			</td>
			<td>
			<p>All Registrants&nbsp; &nbsp; &nbsp; &nbsp; &nbsp; &nbsp; &nbsp;&nbsp;</p>
			</td>
			<td>
			<p>&nbsp; &nbsp;0.0000&nbsp; &nbsp; &nbsp; &nbsp; &nbsp;</p>
			</td>
			<td>
			<p>&nbsp; 0.0000&nbsp; &nbsp; &nbsp; &nbsp; &nbsp;</p>
			</td>
			<td>
			<p>&nbsp; &nbsp; 2.00&nbsp;&nbsp;&nbsp; &nbsp; &nbsp; &nbsp; &nbsp; &nbsp;</p>
			</td>
		</tr>
	</tbody>
</table>

<p><br />
Please refer to&nbsp;<a href="https://www.opba.ca/docs/OPBA_Refund-Payment_Policy.pdf">our refund + payment policy</a>&nbsp;for information regarding cancellations and/or refunds.</p>

PRIORITY:3
TRANSP:TRANSPARENT
BEGIN:VALARM
TRIGGER:-PT5M
ACTION:DISPLAY
DESCRIPTION:Reminder
END:VALARM
END:VEVENT
END:VCALENDAR
